BEGIN:VCALENDAR
VERSION:2.0
PRODID:spatie/icalendar-generator
DESCRIPTION:Veranstaltungen von P02 :: DARC e.V. Ortsverband Esslingen
X-WR-CALDESC:Veranstaltungen von P02 :: DARC e.V. Ortsverband Esslingen
REFRESH-INTERVAL;VALUE=DURATION:PT1440M
X-PUBLISHED-TTL:PT1440M
BEGIN:VTIMEZONE
TZID:Europe/Berlin
BEGIN:STANDARD
DTSTART:20241027T030000Z
TZOFFSETFROM:+0200
TZOFFSETTO:+0100
END:STANDARD
BEGIN:DAYLIGHT
DTSTART:20250330T020000Z
TZOFFSETFROM:+0100
TZOFFSETTO:+0200
END:DAYLIGHT
BEGIN:STANDARD
DTSTART:20251026T030000Z
TZOFFSETFROM:+0200
TZOFFSETTO:+0100
END:STANDARD
END:VTIMEZONE
BEGIN:VTIMEZONE
TZID:UTC
BEGIN:STANDARD
DTSTART:20250728T094212Z
TZOFFSETFROM:+0000
TZOFFSETTO:+0000
END:STANDARD
END:VTIMEZONE
BEGIN:VEVENT
UID:17-6
DTSTAMP:20260424T094212Z
SUMMARY:Kein OV-Abend - Feiertag
LOCATION:Gaststätte Waldheim Zollberg Neuffenstraße 87  Esslingen am Neck
 ar  73734
ORGANIZER;CN=dg1psi:MAILTO:jochen@schaeuble.info
DTSTART;TZID=Europe/Berlin:20250501T193000
DTEND;TZID=Europe/Berlin:20250501T203000
X-ALT-DESC;FMTTYPE=TEXT/HTML:Gaststätte Waldheim Zollberg Adresse: Neuffen
 straße 87\, 73734 Esslingen am Neckar Website: https://gaststaette-waldhe
 im-zollberg.eatbu.com/?lang=de (Speisekarte: Pizza\, Menü) Karte: https:/
 /maps.app.goo.gl/nsQuwXhzNLeVWeAU8 VVS: Link
CATEGORIES:OV-Abend
URL;VALUE=URI:https://p02.de/mc-events/kein-ov-abend-feiertag/
METHOD:PUBLISH
END:VEVENT
END:VCALENDAR