BEGIN:VCALENDAR
VERSION:2.0
PRODID:spatie/icalendar-generator
DESCRIPTION:Veranstaltungen von P02 :: DARC e.V. Ortsverband Esslingen
X-WR-CALDESC:Veranstaltungen von P02 :: DARC e.V. Ortsverband Esslingen
REFRESH-INTERVAL;VALUE=DURATION:PT1440M
X-PUBLISHED-TTL:PT1440M
BEGIN:VTIMEZONE
TZID:Europe/Berlin
BEGIN:STANDARD
DTSTART:20251026T030000Z
TZOFFSETFROM:+0200
TZOFFSETTO:+0100
END:STANDARD
BEGIN:DAYLIGHT
DTSTART:20260329T020000Z
TZOFFSETFROM:+0100
TZOFFSETTO:+0200
END:DAYLIGHT
END:VTIMEZONE
BEGIN:VTIMEZONE
TZID:UTC
BEGIN:STANDARD
DTSTART:20250728T053551Z
TZOFFSETFROM:+0000
TZOFFSETTO:+0000
END:STANDARD
END:VTIMEZONE
BEGIN:VEVENT
UID:36-17
DTSTAMP:20260424T053551Z
SUMMARY:DB0BO Regelrunde
LOCATION:Relais DB0BO
ORGANIZER;CN=dg1psi:MAILTO:jochen@schaeuble.info
RRULE:FREQ=MONTHLY;BYDAY=2TH;UNTIL=20261231T000000Z
DTSTART;TZID=Europe/Berlin:20260409T193000
DTEND;TZID=Europe/Berlin:20260409T203000
X-ALT-DESC;FMTTYPE=TEXT/HTML:Die letzten UKW-Aktivitäten auf dem Relais Es
 slingen\, DB0BO\, waren gut besucht und haben den Teilnehmern Spaß gemach
 t. Aus diesen Grund wollen wir uns ab sofort jeden 2ten Donnerstag im Mona
 t um 19.30 Uhr auf dem Relais für eine nette Plauderrunde treffen! Ziel d
 er Aktion soll sein\, vielleicht wieder mehr Leute zu motivieren\, auch au
 ßerhalb dieses&amp;hellip\;
CATEGORIES:General
URL;VALUE=URI:https://p02.de/mc-events/db0bo-regelrunde/?mc_id=36
METHOD:PUBLISH
END:VEVENT
END:VCALENDAR