BEGIN:VCALENDAR
VERSION:2.0
PRODID:spatie/icalendar-generator
DESCRIPTION:Veranstaltungen von P02 :: DARC e.V. Ortsverband Esslingen
X-WR-CALDESC:Veranstaltungen von P02 :: DARC e.V. Ortsverband Esslingen
REFRESH-INTERVAL;VALUE=DURATION:PT1440M
X-PUBLISHED-TTL:PT1440M
BEGIN:VTIMEZONE
TZID:Europe/Berlin
BEGIN:STANDARD
DTSTART:20251026T030000Z
TZOFFSETFROM:+0200
TZOFFSETTO:+0100
END:STANDARD
BEGIN:DAYLIGHT
DTSTART:20260329T020000Z
TZOFFSETFROM:+0100
TZOFFSETTO:+0200
END:DAYLIGHT
BEGIN:STANDARD
DTSTART:20261025T030000Z
TZOFFSETFROM:+0200
TZOFFSETTO:+0100
END:STANDARD
END:VTIMEZONE
BEGIN:VTIMEZONE
TZID:UTC
BEGIN:STANDARD
DTSTART:20250728T070317Z
TZOFFSETFROM:+0000
TZOFFSETTO:+0000
END:STANDARD
END:VTIMEZONE
BEGIN:VEVENT
UID:61-22
DTSTAMP:20260424T070317Z
SUMMARY:Kein OV-Abend - Feiertag
LOCATION:Gaststätte Waldheim Zollberg Neuffenstraße 87  Esslingen am Neck
 ar  73734
ORGANIZER;CN=dg1psi:MAILTO:jochen@schaeuble.info
DTSTART;TZID=Europe/Berlin:20260604T193000
DTEND;TZID=Europe/Berlin:20260604T203000
X-ALT-DESC;FMTTYPE=TEXT/HTML:
CATEGORIES:OV-Abend
URL;VALUE=URI:https://p02.de/mc-events/kein-ov-abend-feiertag-4/
METHOD:PUBLISH
END:VEVENT
END:VCALENDAR