BEGIN:VCALENDAR
VERSION:2.0
PRODID:spatie/icalendar-generator
DESCRIPTION:Veranstaltungen von P02 :: DARC e.V. Ortsverband Esslingen
X-WR-CALDESC:Veranstaltungen von P02 :: DARC e.V. Ortsverband Esslingen
REFRESH-INTERVAL;VALUE=DURATION:PT1440M
X-PUBLISHED-TTL:PT1440M
BEGIN:VTIMEZONE
TZID:Europe/Berlin
BEGIN:STANDARD
DTSTART:20241027T030000Z
TZOFFSETFROM:+0200
TZOFFSETTO:+0100
END:STANDARD
BEGIN:DAYLIGHT
DTSTART:20250330T020000Z
TZOFFSETFROM:+0100
TZOFFSETTO:+0200
END:DAYLIGHT
BEGIN:STANDARD
DTSTART:20251026T030000Z
TZOFFSETFROM:+0200
TZOFFSETTO:+0100
END:STANDARD
END:VTIMEZONE
BEGIN:VTIMEZONE
TZID:UTC
BEGIN:STANDARD
DTSTART:20250728T110200Z
TZOFFSETFROM:+0000
TZOFFSETTO:+0000
END:STANDARD
END:VTIMEZONE
BEGIN:VEVENT
UID:18-14
DTSTAMP:20260424T110200Z
SUMMARY:OV-Abend - Vortrag ARIG MN - Was steckt dahinter
LOCATION:Gaststätte Waldheim Zollberg Neuffenstraße 87  Esslingen am Neck
 ar  73734
ORGANIZER;CN=dg1psi:MAILTO:jochen@schaeuble.info
DTSTART;TZID=Europe/Berlin:20250605T193000
DTEND;TZID=Europe/Berlin:20250605T203000
X-ALT-DESC;FMTTYPE=TEXT/HTML:Am Donnerstag den 05.06. gibt Stefan\, DL8SFZ 
 einen Einblick in die ARIG MN (Amateurfunk-Relais Interessengemeinschaft M
 ittlerer-Neckar e.V.) - https://arig-mn.org/ Was verbirgt sich dahinter? W
 elche Relais gibt es? Gaststätte Waldheim Zollberg Adresse: Neuffenstraß
 e 87\, 73734 Esslingen am Neckar Website: https://gaststaette-waldheim-zol
 lberg.eatbu.com/?lang=de (Speisekarte: Pizza\, Menü) Karte: https://maps.
 app.goo.gl/nsQuwXhzNLeVWeAU8 VVS: Link
CATEGORIES:OV-Abend
URL;VALUE=URI:https://p02.de/mc-events/ov-abend-vortrag-arig-mn-was-steckt-
 dahinter/
METHOD:PUBLISH
END:VEVENT
END:VCALENDAR