BEGIN:VCALENDAR
VERSION:2.0
PRODID:spatie/icalendar-generator
DESCRIPTION:Veranstaltungen von P02 :: DARC e.V. Ortsverband Esslingen
X-WR-CALDESC:Veranstaltungen von P02 :: DARC e.V. Ortsverband Esslingen
REFRESH-INTERVAL;VALUE=DURATION:PT1440M
X-PUBLISHED-TTL:PT1440M
BEGIN:VTIMEZONE
TZID:Europe/Berlin
BEGIN:DAYLIGHT
DTSTART:20250330T020000Z
TZOFFSETFROM:+0100
TZOFFSETTO:+0200
END:DAYLIGHT
BEGIN:STANDARD
DTSTART:20251026T030000Z
TZOFFSETFROM:+0200
TZOFFSETTO:+0100
END:STANDARD
BEGIN:DAYLIGHT
DTSTART:20260329T020000Z
TZOFFSETFROM:+0100
TZOFFSETTO:+0200
END:DAYLIGHT
END:VTIMEZONE
BEGIN:VTIMEZONE
TZID:UTC
BEGIN:STANDARD
DTSTART:20250728T082612Z
TZOFFSETFROM:+0000
TZOFFSETTO:+0000
END:STANDARD
END:VTIMEZONE
BEGIN:VEVENT
UID:30-16
DTSTAMP:20260424T082612Z
SUMMARY:Schulkontakt zur Neumayer III Station in der Antarktis
LOCATION:QO-100
ORGANIZER;CN=dg1psi:MAILTO:jochen@schaeuble.info
DTSTART;TZID=Europe/Berlin:20251023T150000
DTEND;TZID=Europe/Berlin:20251023T153000
X-ALT-DESC;FMTTYPE=TEXT/HTML:Am kommenden Donnerstag findet der lange gepla
 nte Schulkontakt des Technischen Gymnasiums der Friedrich-Ebert-Schule in 
 Esslingen mit der Neumayer III Station in der Antarktis statt. Ab 15 Uhr k
 önnen die Schüler live den Forschern vor Ort fragen stellen. Die Verbind
 ung findet über den Geostationären Satellit QO-100 statt. Die genaue Fre
 quenz steht noch nicht fest. Interessierte Zuhörer&amp;hellip\;
CATEGORIES:General
URL;VALUE=URI:https://p02.de/mc-events/schulkontakt-zur-neumayer-iii-statio
 n-in-der-antarktis/
METHOD:PUBLISH
END:VEVENT
END:VCALENDAR