BEGIN:VCALENDAR
VERSION:2.0
PRODID:spatie/icalendar-generator
DESCRIPTION:Veranstaltungen von P02 :: DARC e.V. Ortsverband Esslingen
X-WR-CALDESC:Veranstaltungen von P02 :: DARC e.V. Ortsverband Esslingen
REFRESH-INTERVAL;VALUE=DURATION:PT1440M
X-PUBLISHED-TTL:PT1440M
BEGIN:VTIMEZONE
TZID:Europe/Berlin
BEGIN:STANDARD
DTSTART:20241027T030000Z
TZOFFSETFROM:+0200
TZOFFSETTO:+0100
END:STANDARD
BEGIN:DAYLIGHT
DTSTART:20250330T020000Z
TZOFFSETFROM:+0100
TZOFFSETTO:+0200
END:DAYLIGHT
BEGIN:STANDARD
DTSTART:20251026T030000Z
TZOFFSETFROM:+0200
TZOFFSETTO:+0100
END:STANDARD
END:VTIMEZONE
BEGIN:VTIMEZONE
TZID:UTC
BEGIN:STANDARD
DTSTART:20250728T095959Z
TZOFFSETFROM:+0000
TZOFFSETTO:+0000
END:STANDARD
END:VTIMEZONE
BEGIN:VEVENT
UID:6-11
DTSTAMP:20260424T095959Z
SUMMARY:OV-Abend - Vortrag EMV / Sicherheitsunterweisung
LOCATION:Gaststätte Waldheim Zollberg Neuffenstraße 87  Esslingen am Neck
 ar  73734
ORGANIZER;CN=dg1psi:MAILTO:jochen@schaeuble.info
DTSTART;TZID=Europe/Berlin:20250515T193000
DTEND;TZID=Europe/Berlin:20250515T203000
X-ALT-DESC;FMTTYPE=TEXT/HTML:Vortrag EMV am 15.05. und Besichtigung EMV-Lab
 or der Bosch Thermotechnik am 17.05.2025 Was passiert eigentlich bei einer
  EMV-Messung in der Industrie? Dieser Frage gehen wir am Sa.\, den 17.05.2
 025\, bei einer Besichtigung der Bosch Thermotechnik (Bosch Home Comfort) 
 in Wernau nach. Andreas\, DB7AKG\, gibt uns einen Einblick in die Arbeit e
 ines professionellen EMV-Labors. In drei&amp;hellip\;
CATEGORIES:OV-Abend
URL;VALUE=URI:https://p02.de/mc-events/ov-abend-vortrag-emv-sicherheitsunte
 rweisung/
METHOD:PUBLISH
END:VEVENT
END:VCALENDAR